BEGIN:VCALENDAR
VERSION:2.0
PRODID:-//HRBWA - ECPv6.10.3//NONSGML v1.0//EN
CALSCALE:GREGORIAN
METHOD:PUBLISH
X-ORIGINAL-URL:https://hrbwa.com
X-WR-CALDESC:Events for HRBWA
REFRESH-INTERVAL;VALUE=DURATION:PT1H
X-Robots-Tag:noindex
X-PUBLISHED-TTL:PT1H
BEGIN:VTIMEZONE
TZID:America/Los_Angeles
BEGIN:DAYLIGHT
TZOFFSETFROM:-0800
TZOFFSETTO:-0700
TZNAME:PDT
DTSTART:20260308T100000
END:DAYLIGHT
BEGIN:STANDARD
TZOFFSETFROM:-0700
TZOFFSETTO:-0800
TZNAME:PST
DTSTART:20261101T090000
END:STANDARD
END:VTIMEZONE
BEGIN:VEVENT
DTSTART;TZID=America/Los_Angeles:20260109T100000
DTEND;TZID=America/Los_Angeles:20260109T130000
DTSTAMP:20260424T191154
CREATED:20251108T165235Z
LAST-MODIFIED:20251108T165235Z
UID:1800-1767952800-1767963600@hrbwa.com
SUMMARY:Central Nevada Regional Water Authority quarterly meeting
DESCRIPTION:
URL:https://hrbwa.com/event/central-nevada-regional-water-authority-quarterly-meeting-4/
LOCATION:Churchill County Administration Building\, 155 N. Taylor Street Fallon\,
CATEGORIES:meeting
END:VEVENT
END:VCALENDAR