BEGIN:VCALENDAR
VERSION:2.0
PRODID:-//HRBWA - ECPv6.10.3//NONSGML v1.0//EN
CALSCALE:GREGORIAN
METHOD:PUBLISH
X-ORIGINAL-URL:https://hrbwa.com
X-WR-CALDESC:Events for HRBWA
REFRESH-INTERVAL;VALUE=DURATION:PT1H
X-Robots-Tag:noindex
X-PUBLISHED-TTL:PT1H
BEGIN:VTIMEZONE
TZID:America/Los_Angeles
BEGIN:DAYLIGHT
TZOFFSETFROM:-0800
TZOFFSETTO:-0700
TZNAME:PDT
DTSTART:20250309T100000
END:DAYLIGHT
BEGIN:STANDARD
TZOFFSETFROM:-0700
TZOFFSETTO:-0800
TZNAME:PST
DTSTART:20251102T090000
END:STANDARD
BEGIN:DAYLIGHT
TZOFFSETFROM:-0800
TZOFFSETTO:-0700
TZNAME:PDT
DTSTART:20260308T100000
END:DAYLIGHT
BEGIN:STANDARD
TZOFFSETFROM:-0700
TZOFFSETTO:-0800
TZNAME:PST
DTSTART:20261101T090000
END:STANDARD
END:VTIMEZONE
BEGIN:VEVENT
DTSTART;TZID=America/Los_Angeles:20250107T133000
DTEND;TZID=America/Los_Angeles:20250107T133000
DTSTAMP:20260425T085307
CREATED:20241214T010951Z
LAST-MODIFIED:20241214T011245Z
UID:1722-1736256600-1736256600@hrbwa.com
SUMMARY:Nevada Water Initiative Pine Valley project update
DESCRIPTION:On January 7th at 1:30pm\, the Nevada Division of Water Resources (NDWR)\, U.S. Geological Survey (USGS)\, and the Desert Research Institute (DRI) will present an update on the Nevada Water Initiative Pine Valley project at the Hay Ranch Meeting Building. \nThis is a public meeting that will include presentations to inform and update stakeholders on the Pine Valley Hydrologic Study. Following the presentations there will be a question and answer session. \nClick here to see the announcement.
URL:https://hrbwa.com/event/nevada-water-initiative-pine-valley-project-update/
CATEGORIES:meeting
END:VEVENT
BEGIN:VEVENT
DTSTART;TZID=America/Los_Angeles:20250221T100000
DTEND;TZID=America/Los_Angeles:20250221T130000
DTSTAMP:20260425T085307
CREATED:20250212T021755Z
LAST-MODIFIED:20250212T021755Z
UID:1735-1740132000-1740142800@hrbwa.com
SUMMARY:HRBWA Board of Directors meeting
DESCRIPTION:
URL:https://hrbwa.com/event/hrbwa-board-of-directors-meeting-2/
LOCATION:Humboldt County Courthouse Meeting Room 201\, 50 West Fifth Street\, Winnemucca\, Nevada\, United States
END:VEVENT
BEGIN:VEVENT
DTSTART;TZID=America/Los_Angeles:20250307T100000
DTEND;TZID=America/Los_Angeles:20250307T130000
DTSTAMP:20260425T085307
CREATED:20250212T022049Z
LAST-MODIFIED:20250212T022049Z
UID:1739-1741341600-1741352400@hrbwa.com
SUMMARY:Central Nevada Regional Water Authority Board meeting
DESCRIPTION:
URL:https://hrbwa.com/event/central-nevada-regional-water-authority-board-meeting-3/
LOCATION:Churchill County Administration Building\, 155 N. Taylor Street Fallon\,
CATEGORIES:meeting
END:VEVENT
BEGIN:VEVENT
DTSTART;TZID=America/Los_Angeles:20250418T100000
DTEND;TZID=America/Los_Angeles:20250418T110000
DTSTAMP:20260425T085307
CREATED:20250417T162150Z
LAST-MODIFIED:20250417T162150Z
UID:1763-1744970400-1744974000@hrbwa.com
SUMMARY:HRBWA Special meeting
DESCRIPTION:
URL:https://hrbwa.com/event/hrbwa-special-meeting/
LOCATION:Virtual
END:VEVENT
BEGIN:VEVENT
DTSTART;TZID=America/Los_Angeles:20250530T100000
DTEND;TZID=America/Los_Angeles:20250530T130000
DTSTAMP:20260425T085307
CREATED:20250417T162256Z
LAST-MODIFIED:20250417T162256Z
UID:1765-1748599200-1748610000@hrbwa.com
SUMMARY:HRBWA Quarterly meeting
DESCRIPTION:
URL:https://hrbwa.com/event/hrbwa-quarterly-meeting-7/
LOCATION:Humboldt County Courthouse Meeting Room 201\, 50 West Fifth Street\, Winnemucca\, Nevada\, United States
END:VEVENT
BEGIN:VEVENT
DTSTART;TZID=America/Los_Angeles:20250801T090000
DTEND;TZID=America/Los_Angeles:20250801T100000
DTSTAMP:20260425T085307
CREATED:20250716T002126Z
LAST-MODIFIED:20250716T002352Z
UID:1782-1754038800-1754042400@hrbwa.com
SUMMARY:HRBWA special meeting
DESCRIPTION:
URL:https://hrbwa.com/event/hrbwa-special-meeting-2/
LOCATION:Virtual
END:VEVENT
BEGIN:VEVENT
DTSTART;TZID=America/Los_Angeles:20250912T100000
DTEND;TZID=America/Los_Angeles:20250912T130000
DTSTAMP:20260425T085307
CREATED:20250716T002257Z
LAST-MODIFIED:20250716T002257Z
UID:1784-1757671200-1757682000@hrbwa.com
SUMMARY:HRBWA quarterly meeting
DESCRIPTION:
URL:https://hrbwa.com/event/hrbwa-quarterly-meeting-8/
LOCATION:Humboldt County Courthouse Meeting Room 201\, 50 West Fifth Street\, Winnemucca\, Nevada\, United States
END:VEVENT
BEGIN:VEVENT
DTSTART;TZID=America/Los_Angeles:20250912T100000
DTEND;TZID=America/Los_Angeles:20250912T130000
DTSTAMP:20260425T085307
CREATED:20250903T230635Z
LAST-MODIFIED:20250903T230635Z
UID:1789-1757671200-1757682000@hrbwa.com
SUMMARY:HRBWA quarterly meeting
DESCRIPTION:
URL:https://hrbwa.com/event/hrbwa-quarterly-meeting-9/
LOCATION:Humboldt County Courthouse Meeting Room 201\, 50 West Fifth Street\, Winnemucca\, Nevada\, United States
END:VEVENT
BEGIN:VEVENT
DTSTART;TZID=America/Los_Angeles:20251003T100000
DTEND;TZID=America/Los_Angeles:20251003T130000
DTSTAMP:20260425T085307
CREATED:20250903T230754Z
LAST-MODIFIED:20250903T230754Z
UID:1791-1759485600-1759496400@hrbwa.com
SUMMARY:Central Nevada Regional Water Authority quarterly meeting
DESCRIPTION:
URL:https://hrbwa.com/event/central-nevada-regional-water-authority-quarterly-meeting-3/
LOCATION:Churchill County Administration Building\, 155 N. Taylor Street Fallon\,
END:VEVENT
BEGIN:VEVENT
DTSTART;TZID=America/Los_Angeles:20251212T100000
DTEND;TZID=America/Los_Angeles:20251212T130000
DTSTAMP:20260425T085307
CREATED:20251108T164952Z
LAST-MODIFIED:20251108T164952Z
UID:1795-1765533600-1765544400@hrbwa.com
SUMMARY:HRBWA quarterly meeting
DESCRIPTION:
URL:https://hrbwa.com/event/hrbwa-quarterly-meeting-10/
LOCATION:Humboldt County Courthouse Meeting Room 201\, 50 West Fifth Street\, Winnemucca\, Nevada\, United States
CATEGORIES:meeting
END:VEVENT
BEGIN:VEVENT
DTSTART;TZID=America/Los_Angeles:20260109T100000
DTEND;TZID=America/Los_Angeles:20260109T130000
DTSTAMP:20260425T085307
CREATED:20251108T165235Z
LAST-MODIFIED:20251108T165235Z
UID:1800-1767952800-1767963600@hrbwa.com
SUMMARY:Central Nevada Regional Water Authority quarterly meeting
DESCRIPTION:
URL:https://hrbwa.com/event/central-nevada-regional-water-authority-quarterly-meeting-4/
LOCATION:Churchill County Administration Building\, 155 N. Taylor Street Fallon\,
CATEGORIES:meeting
END:VEVENT
BEGIN:VEVENT
DTSTART;TZID=America/Los_Angeles:20260202T080000
DTEND;TZID=America/Los_Angeles:20260205T170000
DTSTAMP:20260425T085307
CREATED:20251108T195040Z
LAST-MODIFIED:20251108T195040Z
UID:1802-1770019200-1770310800@hrbwa.com
SUMMARY:Nevada Water Resources Association Annual Conference
DESCRIPTION:
URL:https://hrbwa.com/event/nevada-water-resources-association-annual-conference/
ORGANIZER;CN="Nevada Water Resources Association":MAILTO:nevadawaterresources@gmail.com
END:VEVENT
BEGIN:VEVENT
DTSTART;TZID=America/Los_Angeles:20260320T100000
DTEND;TZID=America/Los_Angeles:20260320T130000
DTSTAMP:20260425T085307
CREATED:20260114T011639Z
LAST-MODIFIED:20260114T011639Z
UID:1818-1774000800-1774011600@hrbwa.com
SUMMARY:Humboldt River Basin Water Authority Quarterly Meeting
DESCRIPTION:
URL:https://hrbwa.com/event/humboldt-river-basin-water-authority-quarterly-meeting-2/
LOCATION:Humboldt County Courthouse Meeting Room 201\, 50 West Fifth Street\, Winnemucca\, Nevada\, United States
END:VEVENT
BEGIN:VEVENT
DTSTART;TZID=America/Los_Angeles:20260417T100000
DTEND;TZID=America/Los_Angeles:20260417T130000
DTSTAMP:20260425T085307
CREATED:20260114T011743Z
LAST-MODIFIED:20260114T011743Z
UID:1820-1776420000-1776430800@hrbwa.com
SUMMARY:Central Nevada Regional Water Authority Quarterly Meeting
DESCRIPTION:
URL:https://hrbwa.com/event/central-nevada-regional-water-authority-quarterly-meeting-5/
LOCATION:Churchill County Administration Building\, 155 N. Taylor Street Fallon\,
END:VEVENT
END:VCALENDAR