BEGIN:VCALENDAR
VERSION:2.0
PRODID:-//HRBWA - ECPv6.10.3//NONSGML v1.0//EN
CALSCALE:GREGORIAN
METHOD:PUBLISH
X-ORIGINAL-URL:https://hrbwa.com
X-WR-CALDESC:Events for HRBWA
REFRESH-INTERVAL;VALUE=DURATION:PT1H
X-Robots-Tag:noindex
X-PUBLISHED-TTL:PT1H
BEGIN:VTIMEZONE
TZID:America/Los_Angeles
BEGIN:DAYLIGHT
TZOFFSETFROM:-0800
TZOFFSETTO:-0700
TZNAME:PDT
DTSTART:20250309T100000
END:DAYLIGHT
BEGIN:STANDARD
TZOFFSETFROM:-0700
TZOFFSETTO:-0800
TZNAME:PST
DTSTART:20251102T090000
END:STANDARD
BEGIN:DAYLIGHT
TZOFFSETFROM:-0800
TZOFFSETTO:-0700
TZNAME:PDT
DTSTART:20260308T100000
END:DAYLIGHT
BEGIN:STANDARD
TZOFFSETFROM:-0700
TZOFFSETTO:-0800
TZNAME:PST
DTSTART:20261101T090000
END:STANDARD
END:VTIMEZONE
BEGIN:VEVENT
DTSTART;TZID=America/Los_Angeles:20251212T100000
DTEND;TZID=America/Los_Angeles:20251212T130000
DTSTAMP:20260425T071410
CREATED:20251108T164952Z
LAST-MODIFIED:20251108T164952Z
UID:1795-1765533600-1765544400@hrbwa.com
SUMMARY:HRBWA quarterly meeting
DESCRIPTION:
URL:https://hrbwa.com/event/hrbwa-quarterly-meeting-10/
LOCATION:Humboldt County Courthouse Meeting Room 201\, 50 West Fifth Street\, Winnemucca\, Nevada\, United States
CATEGORIES:meeting
END:VEVENT
BEGIN:VEVENT
DTSTART;TZID=America/Los_Angeles:20260109T100000
DTEND;TZID=America/Los_Angeles:20260109T130000
DTSTAMP:20260425T071410
CREATED:20251108T165235Z
LAST-MODIFIED:20251108T165235Z
UID:1800-1767952800-1767963600@hrbwa.com
SUMMARY:Central Nevada Regional Water Authority quarterly meeting
DESCRIPTION:
URL:https://hrbwa.com/event/central-nevada-regional-water-authority-quarterly-meeting-4/
LOCATION:Churchill County Administration Building\, 155 N. Taylor Street Fallon\,
CATEGORIES:meeting
END:VEVENT
BEGIN:VEVENT
DTSTART;TZID=America/Los_Angeles:20260202T080000
DTEND;TZID=America/Los_Angeles:20260205T170000
DTSTAMP:20260425T071410
CREATED:20251108T195040Z
LAST-MODIFIED:20251108T195040Z
UID:1802-1770019200-1770310800@hrbwa.com
SUMMARY:Nevada Water Resources Association Annual Conference
DESCRIPTION:
URL:https://hrbwa.com/event/nevada-water-resources-association-annual-conference/
ORGANIZER;CN="Nevada Water Resources Association":MAILTO:nevadawaterresources@gmail.com
END:VEVENT
BEGIN:VEVENT
DTSTART;TZID=America/Los_Angeles:20260320T100000
DTEND;TZID=America/Los_Angeles:20260320T130000
DTSTAMP:20260425T071410
CREATED:20260114T011639Z
LAST-MODIFIED:20260114T011639Z
UID:1818-1774000800-1774011600@hrbwa.com
SUMMARY:Humboldt River Basin Water Authority Quarterly Meeting
DESCRIPTION:
URL:https://hrbwa.com/event/humboldt-river-basin-water-authority-quarterly-meeting-2/
LOCATION:Humboldt County Courthouse Meeting Room 201\, 50 West Fifth Street\, Winnemucca\, Nevada\, United States
END:VEVENT
BEGIN:VEVENT
DTSTART;TZID=America/Los_Angeles:20260417T100000
DTEND;TZID=America/Los_Angeles:20260417T130000
DTSTAMP:20260425T071410
CREATED:20260114T011743Z
LAST-MODIFIED:20260114T011743Z
UID:1820-1776420000-1776430800@hrbwa.com
SUMMARY:Central Nevada Regional Water Authority Quarterly Meeting
DESCRIPTION:
URL:https://hrbwa.com/event/central-nevada-regional-water-authority-quarterly-meeting-5/
LOCATION:Churchill County Administration Building\, 155 N. Taylor Street Fallon\,
END:VEVENT
END:VCALENDAR