BEGIN:VCALENDAR
VERSION:2.0
PRODID:-//HRBWA - ECPv6.10.3//NONSGML v1.0//EN
CALSCALE:GREGORIAN
METHOD:PUBLISH
X-WR-CALNAME:HRBWA
X-ORIGINAL-URL:https://hrbwa.com
X-WR-CALDESC:Events for HRBWA
REFRESH-INTERVAL;VALUE=DURATION:PT1H
X-Robots-Tag:noindex
X-PUBLISHED-TTL:PT1H
BEGIN:VTIMEZONE
TZID:America/Los_Angeles
BEGIN:DAYLIGHT
TZOFFSETFROM:-0800
TZOFFSETTO:-0700
TZNAME:PDT
DTSTART:20220313T100000
END:DAYLIGHT
BEGIN:STANDARD
TZOFFSETFROM:-0700
TZOFFSETTO:-0800
TZNAME:PST
DTSTART:20221106T090000
END:STANDARD
BEGIN:DAYLIGHT
TZOFFSETFROM:-0800
TZOFFSETTO:-0700
TZNAME:PDT
DTSTART:20230312T100000
END:DAYLIGHT
BEGIN:STANDARD
TZOFFSETFROM:-0700
TZOFFSETTO:-0800
TZNAME:PST
DTSTART:20231105T090000
END:STANDARD
BEGIN:DAYLIGHT
TZOFFSETFROM:-0800
TZOFFSETTO:-0700
TZNAME:PDT
DTSTART:20240310T100000
END:DAYLIGHT
BEGIN:STANDARD
TZOFFSETFROM:-0700
TZOFFSETTO:-0800
TZNAME:PST
DTSTART:20241103T090000
END:STANDARD
END:VTIMEZONE
BEGIN:VEVENT
DTSTART;TZID=America/Los_Angeles:20240809T100000
DTEND;TZID=America/Los_Angeles:20240809T130000
DTSTAMP:20260425T040706
CREATED:20240730T145244Z
LAST-MODIFIED:20240730T150019Z
UID:1705-1723197600-1723208400@hrbwa.com
SUMMARY:HRBWA Board of Directors meeting
DESCRIPTION:Attendance to this meeting will also be available virtually. For this meeting\, the Humboldt River Basin Water Authority will be using Zoom\, a third-party app\, and does not control its technical specifications or requirements. Your ability to participate in the public comment portions of a meeting may be impacted by factors including but not limited to the type of device you use\, the strength of your internet or cellular signal\, and the company that provides your internet or cellular service. HRBWA is not responsible if you are not able to participate in a meeting through Zoom due to these or any other factors.  \nJoin Zoom Meeting:  \nhttps://us02web.zoom.us/j/86024005831?pwd=QqbHe4ANzJNebdC5xMbP5jDuEYpbFW.1 \nDial: 669 900 6833  \nMeeting ID: 860 2400 5831  \nPasscode: 313185
URL:https://hrbwa.com/event/hrbwa-board-of-directors-meeting/
LOCATION:Boys and Girls Club of Winnemucca\, 1973 Whitworth Way\, Winnemucca\, NV\, United States
END:VEVENT
BEGIN:VEVENT
DTSTART;TZID=America/Los_Angeles:20240503T100000
DTEND;TZID=America/Los_Angeles:20240503T130000
DTSTAMP:20260425T040706
CREATED:20240228T012818Z
LAST-MODIFIED:20240228T012818Z
UID:1654-1714730400-1714741200@hrbwa.com
SUMMARY:HRBWA Board meeting
DESCRIPTION:
URL:https://hrbwa.com/event/hrbwa-board-meeting-2/
LOCATION:Boys and Girls Club of Winnemucca\, 1973 Whitworth Way\, Winnemucca\, NV\, United States
END:VEVENT
BEGIN:VEVENT
DTSTART;TZID=America/Los_Angeles:20240319T130000
DTEND;TZID=America/Los_Angeles:20240319T130000
DTSTAMP:20260425T040706
CREATED:20240311T211930Z
LAST-MODIFIED:20240311T211930Z
UID:1659-1710853200-1710853200@hrbwa.com
SUMMARY:Humboldt River Basin Stakeholders meeting
DESCRIPTION:NDWR staff have been reviewing presentations and recordings from the series of meetings held on August 1\, September 6\, and September 26\, 2023\, and are compiling the key points and ideas for further analysis and consideration. Staff have also been reviewing the reports documenting the groundwater flow models for the upper\, middle\, and lower Humboldt regions. Evaluation of Stream Capture Related to Groundwater Pumping\, Upper Humboldt River Basin\, Nevada (Carroll et al. 2023) has been published as Bulletin 49 and Groundwater Discharge from Phreatophyte Vegetation\, Humboldt River Basin\, Nevada (Huntington et al. 2022) has been published as Bulletin 48\, both of which are available on the NDWR website. The remaining model reports are still in review and will be similarly published when they are released.   The next meeting to update stakeholders on our analysis and ideas we believe can be implemented in the near term\, longer term\, and those that will require legislative action to move forward will be held at 1:00 pm on March 19\, 2024\, at the NDWR office and via Microsoft Teams.  \nClick here to see the Announcement and information required to join the meeting remotely.
URL:https://hrbwa.com/event/humboldt-river-basin-stakeholders-meeting/
LOCATION:Nevada Division of Water Resources Conference Room and virtual
END:VEVENT
BEGIN:VEVENT
DTSTART;TZID=America/Los_Angeles:20240130T080000
DTEND;TZID=America/Los_Angeles:20240201T170000
DTSTAMP:20260425T040706
CREATED:20231201T142113Z
LAST-MODIFIED:20231201T142113Z
UID:1640-1706601600-1706806800@hrbwa.com
SUMMARY:Nevada Water Resources Annual Conference
DESCRIPTION:
URL:https://hrbwa.com/event/nevada-water-resources-annual-conference/
LOCATION:Tuscany Suites and Casino\, 255 East Flamingo Road\, Las Vegas\, Nevada
ORGANIZER;CN="Nevada Water Resources Association":MAILTO:nevadawaterresources@gmail.com
END:VEVENT
BEGIN:VEVENT
DTSTART;TZID=America/Los_Angeles:20240112T100000
DTEND;TZID=America/Los_Angeles:20240112T130000
DTSTAMP:20260425T040706
CREATED:20231201T141656Z
LAST-MODIFIED:20231201T141656Z
UID:1638-1705053600-1705064400@hrbwa.com
SUMMARY:HRBWA Board meeting
DESCRIPTION:
URL:https://hrbwa.com/event/hrbwa-board-meeting/
LOCATION:Boys and Girls Club of Winnemucca\, 1973 Whitworth Way\, Winnemucca\, NV\, United States
END:VEVENT
BEGIN:VEVENT
DTSTART;TZID=America/Los_Angeles:20230915T100000
DTEND;TZID=America/Los_Angeles:20230915T130000
DTSTAMP:20260425T040706
CREATED:20230717T183103Z
LAST-MODIFIED:20230717T183204Z
UID:1573-1694772000-1694782800@hrbwa.com
SUMMARY:HRBWA Quarterly Meeting
DESCRIPTION:
URL:https://hrbwa.com/event/hrbwa-quarterly-meeting-6/
LOCATION:Boys and Girls Club of Winnemucca\, 1973 Whitworth Way\, Winnemucca\, NV\, United States
END:VEVENT
BEGIN:VEVENT
DTSTART;TZID=America/Los_Angeles:20230803T090000
DTEND;TZID=America/Los_Angeles:20230803T100000
DTSTAMP:20260425T040706
CREATED:20230717T182948Z
LAST-MODIFIED:20230717T183007Z
UID:1570-1691053200-1691056800@hrbwa.com
SUMMARY:HRBWA special (virtual) meeting
DESCRIPTION:Topic: Humboldt River Basin Water Authority\nTime: Aug 3\, 2023 09:00 AM Pacific Time  \nJoin Zoom Meeting \nhttps://us02web.zoom.us/j/82124798846?pwd=K2gzN1Y2TzI2cDBmNk5JT1NTdTdGQT09 \nDial: \n+1 669 900 6833  \nMeeting ID: 821 2479 8846\nPasscode: 018217
URL:https://hrbwa.com/event/hrbwa-special-virtual-meeting/
LOCATION:Virtual
END:VEVENT
BEGIN:VEVENT
DTSTART;TZID=America/Los_Angeles:20230512T100000
DTEND;TZID=America/Los_Angeles:20230512T130000
DTSTAMP:20260425T040706
CREATED:20230319T203512Z
LAST-MODIFIED:20230319T203529Z
UID:1549-1683885600-1683896400@hrbwa.com
SUMMARY:HRBWA Quarterly Meeting
DESCRIPTION:
URL:https://hrbwa.com/event/hrbwa-quarterly-meeting-5/
LOCATION:Boys and Girls Club of Winnemucca\, 1973 Whitworth Way\, Winnemucca\, NV\, United States
END:VEVENT
BEGIN:VEVENT
DTSTART;TZID=America/Los_Angeles:20230331T100000
DTEND;TZID=America/Los_Angeles:20230331T130000
DTSTAMP:20260425T040706
CREATED:20230319T203620Z
LAST-MODIFIED:20230319T203651Z
UID:1552-1680256800-1680267600@hrbwa.com
SUMMARY:Central Nevada Regional Water Authority Quarterly Meeting
DESCRIPTION:
URL:https://hrbwa.com/event/central-nevada-regional-water-authority-4/
LOCATION:Churchill County Administration Building\, 155 N. Taylor Street Fallon\,
END:VEVENT
BEGIN:VEVENT
DTSTART;TZID=America/Los_Angeles:20230119T090000
DTEND;TZID=America/Los_Angeles:20230119T090000
DTSTAMP:20260425T040706
CREATED:20221207T030041Z
LAST-MODIFIED:20221207T030100Z
UID:1501-1674118800-1674118800@hrbwa.com
SUMMARY:State Environmental Commission Meeting
DESCRIPTION:
URL:https://hrbwa.com/event/state-environmental-commission-meeting/
LOCATION:Bryan Building at 901 S. Stewart St.\, Carson City\, NV in the Tahoe Conference Room and virual
END:VEVENT
BEGIN:VEVENT
DTSTART;TZID=America/Los_Angeles:20230113T080000
DTEND;TZID=America/Los_Angeles:20230113T170000
DTSTAMP:20260425T040706
CREATED:20220924T221935Z
LAST-MODIFIED:20220924T221935Z
UID:1458-1673596800-1673629200@hrbwa.com
SUMMARY:Central Nevada Regional Water Authority
DESCRIPTION:
URL:https://hrbwa.com/event/central-nevada-regional-water-authority-3/
END:VEVENT
BEGIN:VEVENT
DTSTART;TZID=America/Los_Angeles:20221215T150000
DTEND;TZID=America/Los_Angeles:20221215T150000
DTSTAMP:20260425T040706
CREATED:20221211T184349Z
LAST-MODIFIED:20221211T185747Z
UID:1513-1671116400-1671116400@hrbwa.com
SUMMARY:Nevada Supreme Court Commission to Study the Adjudication of Water Law Cases
DESCRIPTION:Click here for the meeting agenda and materials.
URL:https://hrbwa.com/event/nevada-supreme-court-commission-to-study-the-adjudication-of-water-law-cases-2/
LOCATION:Virtual
END:VEVENT
BEGIN:VEVENT
DTSTART;TZID=America/Los_Angeles:20221209T100000
DTEND;TZID=America/Los_Angeles:20221209T130000
DTSTAMP:20260425T040706
CREATED:20220924T221833Z
LAST-MODIFIED:20220924T221833Z
UID:1456-1670580000-1670590800@hrbwa.com
SUMMARY:HRBWA Quarterly Meeting
DESCRIPTION:
URL:https://hrbwa.com/event/hrbwa-quarterly-meeting-4/
LOCATION:Boys and Girls Club of Winnemucca\, 1973 Whitworth Way\, Winnemucca\, NV\, United States
END:VEVENT
BEGIN:VEVENT
DTSTART;TZID=America/Los_Angeles:20220923T100000
DTEND;TZID=America/Los_Angeles:20220923T133000
DTSTAMP:20260425T040706
CREATED:20220701T053418Z
LAST-MODIFIED:20220701T053418Z
UID:1416-1663927200-1663939800@hrbwa.com
SUMMARY:Central Nevada Regional Water Authority Quarterly Meeting
DESCRIPTION:
URL:https://hrbwa.com/event/central-nevada-regional-water-authority-quarterly-meeting-2/
LOCATION:Churchill County Administration Building\, 155 N. Taylor Street Fallon\,
END:VEVENT
BEGIN:VEVENT
DTSTART;TZID=America/Los_Angeles:20220919T000000
DTEND;TZID=America/Los_Angeles:20220922T000000
DTSTAMP:20260425T040706
CREATED:20220701T054617Z
LAST-MODIFIED:20220701T054617Z
UID:1423-1663545600-1663804800@hrbwa.com
SUMMARY:Nevada Water Resources Association 2022 Fall Week of Water
DESCRIPTION:
URL:https://hrbwa.com/event/nevada-water-resources-association-2022-fall-week-of-water-2/
LOCATION:5650 Riggins Court Reno\, Nevada\, 5650 Riggins Court\, Reno\, NV
ORGANIZER;CN="Nevada Water Resources Association":MAILTO:nevadawaterresources@gmail.com
END:VEVENT
BEGIN:VEVENT
DTSTART;TZID=America/Los_Angeles:20220916T100000
DTEND;TZID=America/Los_Angeles:20220916T133000
DTSTAMP:20260425T040706
CREATED:20220701T053822Z
LAST-MODIFIED:20220701T053822Z
UID:1420-1663322400-1663335000@hrbwa.com
SUMMARY:Humboldt River Basin Water Authority Quarterly Meeting
DESCRIPTION:
URL:https://hrbwa.com/event/humboldt-river-basin-water-authority-quarterly-meeting/
LOCATION:Boys and Girls Club of Winnemucca\, 1973 Whitworth Way\, Winnemucca\, NV\, United States
END:VEVENT
BEGIN:VEVENT
DTSTART;TZID=America/Los_Angeles:20220831T100000
DTEND;TZID=America/Los_Angeles:20220831T130000
DTSTAMP:20260425T040706
CREATED:20220817T182431Z
LAST-MODIFIED:20220817T182431Z
UID:1442-1661940000-1661950800@hrbwa.com
SUMMARY:Official regulation amendment workshop  on Legislative Council Bureau (LCB) Draft of Proposed Regulation R113-22
DESCRIPTION:
URL:https://hrbwa.com/event/official-regulation-amendment-workshop-on-legislative-council-bureau-lcb-draft-of-proposed-regulation-r113-22/
LOCATION:Bryan Building at 901 S. Stewart St.\, Carson City\, NV in the Tahoe Conference Room and virual
END:VEVENT
BEGIN:VEVENT
DTSTART;TZID=America/Los_Angeles:20220822T103000
DTEND;TZID=America/Los_Angeles:20220822T103000
DTSTAMP:20260425T040706
CREATED:20220817T162103Z
LAST-MODIFIED:20220817T162829Z
UID:1433-1661164200-1661164200@hrbwa.com
SUMMARY:Joint Interim Standing Committee on Natural Resources
DESCRIPTION:
URL:https://hrbwa.com/event/joint-interim-standing-committee-on-natural-resources/
LOCATION:Grant Sawyer State Office Building\, Las Vegas\, broadcast to Legislative Building\, Carson City and livestream
END:VEVENT
BEGIN:VEVENT
DTSTART;TZID=America/Los_Angeles:20220822T090000
DTEND;TZID=America/Los_Angeles:20220822T090000
DTSTAMP:20260425T040706
CREATED:20220817T161738Z
LAST-MODIFIED:20220817T162910Z
UID:1430-1661158800-1661158800@hrbwa.com
SUMMARY:Subcommittee on Public Lands of the Joint Interim Standing Committee on Natural Resources
DESCRIPTION:
URL:https://hrbwa.com/event/subcommittee-on-public-lands-of-the-joint-interim-standing-committee-on-natural-resources/
LOCATION:Grant Sawyer State Office Building\, Las Vegas\, broadcast to Legislative Building\, Carson City and livestream
END:VEVENT
BEGIN:VEVENT
DTSTART;TZID=America/Los_Angeles:20220812T090000
DTEND;TZID=America/Los_Angeles:20220812T090000
DTSTAMP:20260425T040706
CREATED:20220701T053710Z
LAST-MODIFIED:20220701T054020Z
UID:1418-1660294800-1660294800@hrbwa.com
SUMMARY:Humboldt River Basin Water Authority Business Meeting
DESCRIPTION:
URL:https://hrbwa.com/event/humboldt-river-authority-business-meeting/
LOCATION:Virtual
END:VEVENT
BEGIN:VEVENT
DTSTART;TZID=America/Los_Angeles:20220617T100000
DTEND;TZID=America/Los_Angeles:20220617T130000
DTSTAMP:20260425T040706
CREATED:20220304T220025Z
LAST-MODIFIED:20220304T220025Z
UID:1308-1655460000-1655470800@hrbwa.com
SUMMARY:Central Nevada Regional Water Authority Quarterly Meeting
DESCRIPTION:
URL:https://hrbwa.com/event/central-nevada-regional-water-authority-quarterly-meeting/
LOCATION:Churchill County Administration Building\, 155 N. Taylor Street Fallon\,
END:VEVENT
BEGIN:VEVENT
DTSTART;TZID=America/Los_Angeles:20220610T100000
DTEND;TZID=America/Los_Angeles:20220610T100000
DTSTAMP:20260425T040706
CREATED:20220317T020537Z
LAST-MODIFIED:20220516T171129Z
UID:1344-1654855200-1654855200@hrbwa.com
SUMMARY:Humboldt River Basin Water Authority Board Meeting
DESCRIPTION:
URL:https://hrbwa.com/event/hrbwa-quarterly-meeting-3/
LOCATION:Boys and Girls Club of Winnemucca\, 1973 Whitworth Way\, Winnemucca\, NV\, United States
END:VEVENT
BEGIN:VEVENT
DTSTART;TZID=America/Los_Angeles:20220523T090000
DTEND;TZID=America/Los_Angeles:20220523T090000
DTSTAMP:20260425T040706
CREATED:20220516T173655Z
LAST-MODIFIED:20220516T173655Z
UID:1395-1653296400-1653296400@hrbwa.com
SUMMARY:Interim Legislative Subcommittee on Public Lands
DESCRIPTION:
URL:https://hrbwa.com/event/interim-legislative-subcommittee-on-public-lands/
END:VEVENT
BEGIN:VEVENT
DTSTART;TZID=America/Los_Angeles:20220412T130000
DTEND;TZID=America/Los_Angeles:20220412T150000
DTSTAMP:20260425T040706
CREATED:20220217T011406Z
LAST-MODIFIED:20220217T011406Z
UID:1282-1649768400-1649775600@hrbwa.com
SUMMARY:Making Water Data Useful for You: Nevada Water Web Apps
DESCRIPTION:
URL:https://hrbwa.com/event/making-water-data-useful-for-you-nevada-water-web-apps/
LOCATION:Virtual
ORGANIZER;CN="Nevada Water Resources Association":MAILTO:nevadawaterresources@gmail.com
END:VEVENT
BEGIN:VEVENT
DTSTART;TZID=America/Los_Angeles:20220407T090000
DTEND;TZID=America/Los_Angeles:20220407T120000
DTSTAMP:20260425T040706
CREATED:20220317T021914Z
LAST-MODIFIED:20220317T021914Z
UID:1351-1649322000-1649332800@hrbwa.com
SUMMARY:Workshop: Antidegradation Program for Protection of Nevada Surface Water
DESCRIPTION:LCB Draft Proposed Regulation R119-20\, Sections 6-11 Conforming changes to incorporate the antidegradation process into existing requirements of Chapter 445 of NAC\, Sections 12-32 (R119-20).
URL:https://hrbwa.com/event/workshop-antidegradation-program-for-protection-of-nevada-surface-water/
LOCATION:Virtual or In-Person at Division of Water Resources Carson City
END:VEVENT
BEGIN:VEVENT
DTSTART;TZID=America/Los_Angeles:20220406T090000
DTEND;TZID=America/Los_Angeles:20220406T120000
DTSTAMP:20260425T040706
CREATED:20220317T022545Z
LAST-MODIFIED:20220317T022545Z
UID:1353-1649235600-1649246400@hrbwa.com
SUMMARY:Workshop: Antidegradation Program for Protection of Nevada Surface Water
DESCRIPTION:LCB Draft Proposed Regulation R119-20\, Sections 6-11 Conforming changes to incorporate the antidegradation process into existing requirements of Chapter 445 of NAC\, Sections 12-32 (R119-20).
URL:https://hrbwa.com/event/workshop-antidegradation-program-for-protection-of-nevada-surface-water-2/
LOCATION:Virtual or In-Person at Division of Water Resources Carson City
END:VEVENT
BEGIN:VEVENT
DTSTART;TZID=America/Los_Angeles:20220405T090000
DTEND;TZID=America/Los_Angeles:20220405T120000
DTSTAMP:20260425T040706
CREATED:20220317T022721Z
LAST-MODIFIED:20220317T022721Z
UID:1356-1649149200-1649160000@hrbwa.com
SUMMARY:Workshop: Nomination and Classification of Ecological\, Aesthetic or Recreational Waters (EAWs)
DESCRIPTION:LCB Draft Proposed Regulation R119-20\, Sections 2-5 Including a mock exercise of the nomination process for a potential EAW
URL:https://hrbwa.com/event/workshop-nomination-and-classification-of-ecological-aesthetic-or-recreational-waters-eaws/
LOCATION:Virtual or In-Person at Division of Water Resources Carson City
END:VEVENT
BEGIN:VEVENT
DTSTART;TZID=America/Los_Angeles:20220323T100000
DTEND;TZID=America/Los_Angeles:20220323T120000
DTSTAMP:20260425T040706
CREATED:20220217T011051Z
LAST-MODIFIED:20220217T011051Z
UID:1280-1648029600-1648036800@hrbwa.com
SUMMARY:Water Resource Management Using Models
DESCRIPTION:
URL:https://hrbwa.com/event/water-resource-management-using-models/
LOCATION:Virtual
ORGANIZER;CN="Nevada Water Resources Association":MAILTO:nevadawaterresources@gmail.com
END:VEVENT
BEGIN:VEVENT
DTSTART;TZID=America/Los_Angeles:20220316T100000
DTEND;TZID=America/Los_Angeles:20220316T120000
DTSTAMP:20260425T040706
CREATED:20220214T211932Z
LAST-MODIFIED:20220316T170733Z
UID:1274-1647424800-1647432000@hrbwa.com
SUMMARY:Virtual Northern Nevada Streamflow\, Reservoir\, and Weather Forecast Meeting
DESCRIPTION:Contact Bunny L. Bishop\, CFM \nChief\, Water Planning and Drought Resiliency \nNevada Division of Water Resources \nfor more information. \nPh. (775) 684-2834 \nbbishop@water.nv.gov
URL:https://hrbwa.com/event/virtual-northern-nevada-streamflow-reservoir-and-weather-forecast-meeting/
LOCATION:Virtual
END:VEVENT
BEGIN:VEVENT
DTSTART;TZID=America/Los_Angeles:20220311T100000
DTEND;TZID=America/Los_Angeles:20220311T130000
DTSTAMP:20260425T040706
CREATED:20211216T190137Z
LAST-MODIFIED:20211216T190137Z
UID:1212-1646992800-1647003600@hrbwa.com
SUMMARY:Humboldt River Basin Water Authority Board Meeting
DESCRIPTION:
URL:https://hrbwa.com/event/humboldt-river-basin-water-authority-board-meeting-3/
LOCATION:Boys and Girls Club of Winnemucca\, 1973 Whitworth Way\, Winnemucca\, NV\, United States
END:VEVENT
END:VCALENDAR