BEGIN:VCALENDAR
VERSION:2.0
PRODID:-//HRBWA - ECPv6.10.3//NONSGML v1.0//EN
CALSCALE:GREGORIAN
METHOD:PUBLISH
X-WR-CALNAME:HRBWA
X-ORIGINAL-URL:https://hrbwa.com
X-WR-CALDESC:Events for HRBWA
REFRESH-INTERVAL;VALUE=DURATION:PT1H
X-Robots-Tag:noindex
X-PUBLISHED-TTL:PT1H
BEGIN:VTIMEZONE
TZID:America/Los_Angeles
BEGIN:DAYLIGHT
TZOFFSETFROM:-0800
TZOFFSETTO:-0700
TZNAME:PDT
DTSTART:20210314T100000
END:DAYLIGHT
BEGIN:STANDARD
TZOFFSETFROM:-0700
TZOFFSETTO:-0800
TZNAME:PST
DTSTART:20211107T090000
END:STANDARD
BEGIN:DAYLIGHT
TZOFFSETFROM:-0800
TZOFFSETTO:-0700
TZNAME:PDT
DTSTART:20220313T100000
END:DAYLIGHT
BEGIN:STANDARD
TZOFFSETFROM:-0700
TZOFFSETTO:-0800
TZNAME:PST
DTSTART:20221106T090000
END:STANDARD
END:VTIMEZONE
BEGIN:VEVENT
DTSTART;TZID=America/Los_Angeles:20220131T080000
DTEND;TZID=America/Los_Angeles:20220201T140000
DTSTAMP:20260425T055243
CREATED:20211104T024848Z
LAST-MODIFIED:20211104T024848Z
UID:1175-1643616000-1643724000@hrbwa.com
SUMMARY:Water Rights & Advanced Water Rights in Nevada Classes
DESCRIPTION:
URL:https://hrbwa.com/event/water-rights-advanced-water-rights-in-nevada-classes/
LOCATION:Tuscany Suites and Casino\, 255 East Flamingo Road\, Las Vegas\, Nevada
ORGANIZER;CN="Nevada Water Resources Association":MAILTO:nevadawaterresources@gmail.com
END:VEVENT
BEGIN:VEVENT
DTSTART;VALUE=DATE:20220131
DTEND;VALUE=DATE:20220204
DTSTAMP:20260425T055243
CREATED:20211216T190415Z
LAST-MODIFIED:20211216T190721Z
UID:1214-1643587200-1643932799@hrbwa.com
SUMMARY:2022 Nevada Water Resources Association Annual Conference Week
DESCRIPTION:
URL:https://hrbwa.com/event/2022-nevada-water-resources-association-annual-conference-week/
LOCATION:Tuscany Suites and Casino\, 255 East Flamingo Road\, Las Vegas\, Nevada
ORGANIZER;CN="Nevada Water Resources Association":MAILTO:nevadawaterresources@gmail.com
END:VEVENT
BEGIN:VEVENT
DTSTART;TZID=America/Los_Angeles:20220126T090000
DTEND;TZID=America/Los_Angeles:20220126T110000
DTSTAMP:20260425T055243
CREATED:20211229T172709Z
LAST-MODIFIED:20211229T172709Z
UID:1225-1643187600-1643194800@hrbwa.com
SUMMARY:Drought in Nevada Workshop Series - Review 2015 Drought Forum Recommendations
DESCRIPTION:
URL:https://hrbwa.com/event/drought-in-nevada-workshop-series-review-2015-drought-forum-recommendations/
LOCATION:Virtual
END:VEVENT
BEGIN:VEVENT
DTSTART;TZID=America/Los_Angeles:20220124T110000
DTEND;TZID=America/Los_Angeles:20220124T120000
DTSTAMP:20260425T055243
CREATED:20211220T175517Z
LAST-MODIFIED:20211220T175517Z
UID:1218-1643022000-1643025600@hrbwa.com
SUMMARY:California-Nevada Winter Status Update
DESCRIPTION:
URL:https://hrbwa.com/event/california-nevada-winter-status-update/
LOCATION:Virtual
END:VEVENT
BEGIN:VEVENT
DTSTART;TZID=America/Los_Angeles:20220121T133000
DTEND;TZID=America/Los_Angeles:20220121T133000
DTSTAMP:20260425T055243
CREATED:20220114T034905Z
LAST-MODIFIED:20220114T034905Z
UID:1240-1642771800-1642771800@hrbwa.com
SUMMARY:Nevada Supreme Court Commission to Study the Adjudication of Water Law Cases
DESCRIPTION:
URL:https://hrbwa.com/event/nevada-supreme-court-commission-to-study-the-adjudication-of-water-law-cases/
LOCATION:Virtual
END:VEVENT
BEGIN:VEVENT
DTSTART;TZID=America/Los_Angeles:20211209T133000
DTEND;TZID=America/Los_Angeles:20211209T150000
DTSTAMP:20260425T055243
CREATED:20211113T182436Z
LAST-MODIFIED:20211113T182436Z
UID:1189-1639056600-1639062000@hrbwa.com
SUMMARY:Bipartisan Infrastructure Bill (BIB) listening session
DESCRIPTION:
URL:https://hrbwa.com/event/bipartisan-infrastructure-bill-bib-listening-session/
LOCATION:Las Vegas and virtual
END:VEVENT
BEGIN:VEVENT
DTSTART;TZID=America/Los_Angeles:20211203T100000
DTEND;TZID=America/Los_Angeles:20211203T133000
DTSTAMP:20260425T055243
CREATED:20210928T212256Z
LAST-MODIFIED:20210928T212256Z
UID:1163-1638525600-1638538200@hrbwa.com
SUMMARY:Humboldt River Basin Water Authority
DESCRIPTION:
URL:https://hrbwa.com/event/humboldt-river-basin-water-authority/
LOCATION:Boys and Girls Club of Winnemucca\, 1973 Whitworth Way\, Winnemucca\, NV\, United States
END:VEVENT
BEGIN:VEVENT
DTSTART;TZID=America/Los_Angeles:20211116T090000
DTEND;TZID=America/Los_Angeles:20211116T110000
DTSTAMP:20260425T055243
CREATED:20210922T191856Z
LAST-MODIFIED:20210922T191856Z
UID:1155-1637053200-1637060400@hrbwa.com
SUMMARY:Triennial Review of Nevada’s Surface Water Quality Standards
DESCRIPTION:
URL:https://hrbwa.com/event/triennial-review-of-nevadas-surface-water-quality-standards/
LOCATION:Virtual
END:VEVENT
BEGIN:VEVENT
DTSTART;TZID=America/Los_Angeles:20211112T100000
DTEND;TZID=America/Los_Angeles:20211112T130000
DTSTAMP:20260425T055243
CREATED:20210823T234408Z
LAST-MODIFIED:20210823T234408Z
UID:1126-1636711200-1636722000@hrbwa.com
SUMMARY:Central Nevada Regional Water Authority Board Meeting
DESCRIPTION:
URL:https://hrbwa.com/event/central-nevada-regional-water-authority-board-meeting-2/
LOCATION:Churchill County Administration Building\, 155 N. Taylor Street Fallon\,
END:VEVENT
BEGIN:VEVENT
DTSTART;TZID=America/Los_Angeles:20211012T080000
DTEND;TZID=America/Los_Angeles:20211013T170000
DTSTAMP:20260425T055243
CREATED:20210723T211812Z
LAST-MODIFIED:20210723T211812Z
UID:1110-1634025600-1634144400@hrbwa.com
SUMMARY:2021 Minerals & Mine Water Management Symposium
DESCRIPTION:
URL:https://hrbwa.com/event/2021-minerals-mine-water-management-symposium/
LOCATION:Sparks Nugget Casino Resort
ORGANIZER;CN="Nevada Water Resources Association":MAILTO:nevadawaterresources@gmail.com
END:VEVENT
BEGIN:VEVENT
DTSTART;TZID=America/Los_Angeles:20211011T080000
DTEND;TZID=America/Los_Angeles:20211011T170000
DTSTAMP:20260425T055243
CREATED:20210831T004107Z
LAST-MODIFIED:20210831T004952Z
UID:1147-1633939200-1633971600@hrbwa.com
SUMMARY:DWR Workshop - Expert Witnesses
DESCRIPTION:
URL:https://hrbwa.com/event/dwr-public-workshop-expert-witnesses/
LOCATION:Division of Water Resources Tahoe Hearing Room\, 901 S. Stewart Street\, Ste. 2002 Nevada\, 89701\, Carson City\, NV
END:VEVENT
BEGIN:VEVENT
DTSTART;TZID=America/Los_Angeles:20211004T100000
DTEND;TZID=America/Los_Angeles:20211004T100000
DTSTAMP:20260425T055243
CREATED:20210831T003940Z
LAST-MODIFIED:20210831T004839Z
UID:1145-1633341600-1633341600@hrbwa.com
SUMMARY:DWR Workshop - The record in proceedings before the State Engineer
DESCRIPTION:
URL:https://hrbwa.com/event/dwr-public-workshop-the-record-in-proceedings-before-the-state-engineer/
LOCATION:Division of Water Resources Tahoe Hearing Room\, 901 S. Stewart Street\, Ste. 2002 Nevada\, 89701\, Carson City\, NV
END:VEVENT
BEGIN:VEVENT
DTSTART;TZID=America/Los_Angeles:20210927T100000
DTEND;TZID=America/Los_Angeles:20210927T170000
DTSTAMP:20260425T055243
CREATED:20210831T003846Z
LAST-MODIFIED:20210831T004905Z
UID:1143-1632736800-1632762000@hrbwa.com
SUMMARY:DWR Workshop - Procedural rules for matters pending before the State Engineer
DESCRIPTION:
URL:https://hrbwa.com/event/dwr-public-workshop-procedural-rules-for-matters-pending-before-the-state-engineer/
LOCATION:Division of Water Resources Tahoe Hearing Room\, 901 S. Stewart Street\, Ste. 2002 Nevada\, 89701\, Carson City\, NV
END:VEVENT
BEGIN:VEVENT
DTSTART;TZID=America/Los_Angeles:20210920T100000
DTEND;TZID=America/Los_Angeles:20210920T100000
DTSTAMP:20260425T055243
CREATED:20210831T003739Z
LAST-MODIFIED:20210831T004926Z
UID:1141-1632132000-1632132000@hrbwa.com
SUMMARY:DWR Workshop - Identification of parties in matters pending before the State Engineer
DESCRIPTION:
URL:https://hrbwa.com/event/dwr-public-workshop-identification-of-parties-in-matters-pending-before-the-state-engineer/
LOCATION:Division of Water Resources Tahoe Hearing Room\, 901 S. Stewart Street\, Ste. 2002 Nevada\, 89701\, Carson City\, NV
END:VEVENT
BEGIN:VEVENT
DTSTART;TZID=America/Los_Angeles:20210916T090000
DTEND;TZID=America/Los_Angeles:20210916T120000
DTSTAMP:20260425T055243
CREATED:20210821T135205Z
LAST-MODIFIED:20210821T135205Z
UID:1122-1631782800-1631793600@hrbwa.com
SUMMARY:Technical Session #2 - Nevada’s DRAFT Antidegradation Implementation Procedures\, including Nevada’s DRAFT process for nominating Ecological and Aesthetic Waters (EAWs)
DESCRIPTION:
URL:https://hrbwa.com/event/technical-session-2-nevadas-draft-antidegradation-implementation-procedures-including-nevadas-draft-process-for-nominating-ecological-and-aesthetic-waters-eaws/
LOCATION:Virtual
END:VEVENT
BEGIN:VEVENT
DTSTART;TZID=America/Los_Angeles:20210913T100000
DTEND;TZID=America/Los_Angeles:20210913T100000
DTSTAMP:20260425T055243
CREATED:20210831T003547Z
LAST-MODIFIED:20210831T003547Z
UID:1139-1631527200-1631527200@hrbwa.com
SUMMARY:DWR Public Workshop - Identifying proceedings before the State Engineer to which the rules apply
DESCRIPTION:
URL:https://hrbwa.com/event/dwr-public-workshop-identifying-proceedings-before-the-state-engineer-to-which-the-rules-apply/
LOCATION:Division of Water Resources Tahoe Hearing Room\, 901 S. Stewart Street\, Ste. 2002 Nevada\, 89701\, Carson City\, NV
END:VEVENT
BEGIN:VEVENT
DTSTART;TZID=America/Los_Angeles:20210910T100000
DTEND;TZID=America/Los_Angeles:20210910T100000
DTSTAMP:20260425T055243
CREATED:20210516T004405Z
LAST-MODIFIED:20210516T004405Z
UID:1061-1631268000-1631268000@hrbwa.com
SUMMARY:Humboldt River Basin Water Authority Board meeting
DESCRIPTION:
URL:https://hrbwa.com/event/humboldt-river-basin-water-authority-board-meeting-2/
END:VEVENT
BEGIN:VEVENT
DTSTART;TZID=America/Los_Angeles:20210909T130000
DTEND;TZID=America/Los_Angeles:20210909T160000
DTSTAMP:20260425T055243
CREATED:20210821T135056Z
LAST-MODIFIED:20210821T135056Z
UID:1120-1631192400-1631203200@hrbwa.com
SUMMARY:Technical Session #1 - Nevada’s DRAFT Antidegradation Implementation Procedures\, including Nevada’s DRAFT process for nominating Ecological and Aesthetic Waters (EAWs)
DESCRIPTION:
URL:https://hrbwa.com/event/technical-session-1-nevadas-draft-antidegradation-implementation-procedures-including-nevadas-draft-process-for-nominating-ecological-and-aesthetic-waters-eaws/
LOCATION:Virtual
END:VEVENT
BEGIN:VEVENT
DTSTART;TZID=America/Los_Angeles:20210902T110000
DTEND;TZID=America/Los_Angeles:20210902T170000
DTSTAMP:20260425T055243
CREATED:20210821T134915Z
LAST-MODIFIED:20210821T134915Z
UID:1117-1630580400-1630602000@hrbwa.com
SUMMARY:Introduction to Nevada’s DRAFT Antidegradation Implementation Procedures\, including Nevada’s DRAFT process for nominating Ecological and Aesthetic Waters (EAWs)
DESCRIPTION:
URL:https://hrbwa.com/event/introduction-to-nevadas-draft-antidegradation-implementation-procedures-including-nevadas-draft-process-for-nominating-ecological-and-aesthetic-waters-eaws/
LOCATION:Virtual
END:VEVENT
BEGIN:VEVENT
DTSTART;TZID=America/Los_Angeles:20210827T130000
DTEND;TZID=America/Los_Angeles:20210827T130000
DTSTAMP:20260425T055243
CREATED:20210823T171558Z
LAST-MODIFIED:20210826T164125Z
UID:1124-1630069200-1630069200@hrbwa.com
SUMMARY:CANCELED - Nevada Supreme Court Commission to Study the Adjudication of Water Law Cases public meeting
DESCRIPTION:
URL:https://hrbwa.com/event/nevada-supreme-court-commission-to-study-the-adjudication-of-water-law-cases-public-meeting-2/
LOCATION:Virtual
END:VEVENT
BEGIN:VEVENT
DTSTART;TZID=America/Los_Angeles:20210820T100000
DTEND;TZID=America/Los_Angeles:20210820T100000
DTSTAMP:20260425T055243
CREATED:20210721T210446Z
LAST-MODIFIED:20210721T210446Z
UID:1108-1629453600-1629453600@hrbwa.com
SUMMARY:Central Nevada Regional Water Authority Board Meeting
DESCRIPTION:
URL:https://hrbwa.com/event/central-nevada-regional-water-authority-board-meeting/
LOCATION:Churchill County Administration Building\, 155 N. Taylor Street Fallon\,
END:VEVENT
BEGIN:VEVENT
DTSTART;TZID=America/Los_Angeles:20210727T100000
DTEND;TZID=America/Los_Angeles:20210727T100000
DTSTAMP:20260425T055243
CREATED:20210624T162448Z
LAST-MODIFIED:20210624T162448Z
UID:1096-1627380000-1627380000@hrbwa.com
SUMMARY:Public workshop on proposed regulations relating to extensions of time to file proof of construction of works and beneficial use
DESCRIPTION:
URL:https://hrbwa.com/event/public-workshop-on-proposed-regulations-relating-to-extensions-of-time-to-file-proof-of-construction-of-works-and-beneficial-use/
LOCATION:Division of Water Resources Tahoe Hearing Room\, 901 S. Stewart Street\, Ste. 2002 Nevada\, 89701\, Carson City\, NV
END:VEVENT
BEGIN:VEVENT
DTSTART;TZID=America/Los_Angeles:20210625T130000
DTEND;TZID=America/Los_Angeles:20210625T130000
DTSTAMP:20260425T055243
CREATED:20210616T150658Z
LAST-MODIFIED:20210616T150658Z
UID:1087-1624626000-1624626000@hrbwa.com
SUMMARY:Nevada Supreme Court Commission to Study the Adjudication of Water Law Cases public meeting
DESCRIPTION:
URL:https://hrbwa.com/event/nevada-supreme-court-commission-to-study-the-adjudication-of-water-law-cases-public-meeting/
LOCATION:Virtual
END:VEVENT
BEGIN:VEVENT
DTSTART;TZID=America/Los_Angeles:20210618T090000
DTEND;TZID=America/Los_Angeles:20210618T090000
DTSTAMP:20260425T055243
CREATED:20210511T013017Z
LAST-MODIFIED:20210511T023150Z
UID:1056-1624006800-1624006800@hrbwa.com
SUMMARY:Public workshop on proposed regulations relating to extensions of time to file proof of construction of works and beneficial use
DESCRIPTION:
URL:https://hrbwa.com/event/public-workshop-on-proposed-regulations-relating-to-extensions-of-time-to-file-a-proof-of-construction-of-works-and-proof-of-beneficial-use/
LOCATION:Division of Water Resources Tahoe Hearing Room\, 901 S. Stewart Street\, Ste. 2002 Nevada\, 89701\, Carson City\, NV
END:VEVENT
BEGIN:VEVENT
DTSTART;TZID=America/Los_Angeles:20210616T093000
DTEND;TZID=America/Los_Angeles:20210616T093000
DTSTAMP:20260425T055243
CREATED:20210511T011838Z
LAST-MODIFIED:20210511T012915Z
UID:1053-1623835800-1623835800@hrbwa.com
SUMMARY:Public workshop on proposed regulations relating to administrative hearings before the State Engineer
DESCRIPTION:
URL:https://hrbwa.com/event/public-workshop-on-proposed-regulations-relating-to-administrative-hearings-before-the-state-engineer/
LOCATION:Division of Water Resources Tahoe Hearing Room\, 901 S. Stewart Street\, Ste. 2002 Nevada\, 89701\, Carson City\, NV
END:VEVENT
BEGIN:VEVENT
DTSTART;TZID=America/Los_Angeles:20210602T093000
DTEND;TZID=America/Los_Angeles:20210602T103000
DTSTAMP:20260425T055243
CREATED:20210522T152827Z
LAST-MODIFIED:20210522T153016Z
UID:1063-1622626200-1622629800@hrbwa.com
SUMMARY:Oral Argument on Diamond Valley Groundwater Management Plan
DESCRIPTION:Click here for case information.
URL:https://hrbwa.com/event/oral-argument-on-diamond-valley-groundwater-management-plan/
LOCATION:Las Vegas and virtual
END:VEVENT
BEGIN:VEVENT
DTSTART;TZID=America/Los_Angeles:20210524T110000
DTEND;TZID=America/Los_Angeles:20210524T120000
DTSTAMP:20260425T055243
CREATED:20210506T015445Z
LAST-MODIFIED:20210506T015445Z
UID:1047-1621854000-1621857600@hrbwa.com
SUMMARY:Drought Update and Wildfire Outlook Webinar for California and the Southwest
DESCRIPTION:The Drought Update and Wildfire Outlook Webinar for California and the Southwest is designed to provide stakeholders and other interested parties in the region with timely information on the current drought status and outlook and wildland fire potential outlook. \nThis webinar is a special joint region webinar\, combining the California-Nevada Drought Early Warning System Drought & Climate Outlook Webinar Series and Southwest Drought Briefings\, which are produced by the Intermountain West Drought Early Warning System and the USDA Southwest Climate Hub.
URL:https://hrbwa.com/event/drought-update-and-wildfire-outlook-webinar-for-california-and-the-southwest/
LOCATION:Virtual
END:VEVENT
BEGIN:VEVENT
DTSTART;TZID=America/Los_Angeles:20210514T100000
DTEND;TZID=America/Los_Angeles:20210514T130000
DTSTAMP:20260425T055243
CREATED:20210225T011440Z
LAST-MODIFIED:20210225T011440Z
UID:965-1620986400-1620997200@hrbwa.com
SUMMARY:Humboldt River Basin Water Authority Board meeting
DESCRIPTION:
URL:https://hrbwa.com/event/humboldt-river-basin-water-authority-board-meeting/
END:VEVENT
BEGIN:VEVENT
DTSTART;TZID=America/Los_Angeles:20210416T130000
DTEND;TZID=America/Los_Angeles:20210416T130000
DTSTAMP:20260425T055243
CREATED:20210413T152329Z
LAST-MODIFIED:20210413T152329Z
UID:1027-1618578000-1618578000@hrbwa.com
SUMMARY:The Nevada Supreme Court Commission to Study the Adjudication of Water Law Cases Public Meeting
DESCRIPTION:The Nevada Supreme Court Commission to Study the Adjudication of Water\nLaw Cases is holding a public meeting set for: 1:00 P.M.\, ON APRIL 16\, 2021 \nClick here for the agenda and information on how to join the meeting.
URL:https://hrbwa.com/event/the-nevada-supreme-court-commission-to-study-the-adjudication-of-water-law-cases-public-meeting/
LOCATION:Virtual
END:VEVENT
BEGIN:VEVENT
DTSTART;TZID=America/Los_Angeles:20210415T150000
DTEND;TZID=America/Los_Angeles:20210415T150000
DTSTAMP:20260425T055243
CREATED:20210325T003624Z
LAST-MODIFIED:20210325T003624Z
UID:1013-1618498800-1618498800@hrbwa.com
SUMMARY:April 2021 Northern Nevada Streamflow\, Reservoir\, and Weather Forecast Meeting
DESCRIPTION:April 15\, 2021_Forecast Meeting Agenda
URL:https://hrbwa.com/event/april-2021-northern-nevada-streamflow-reservoir-and-weather-forecast-meeting/
LOCATION:Virtual
END:VEVENT
END:VCALENDAR