BEGIN:VCALENDAR
VERSION:2.0
PRODID:-//HRBWA - ECPv6.10.3//NONSGML v1.0//EN
CALSCALE:GREGORIAN
METHOD:PUBLISH
X-WR-CALNAME:HRBWA
X-ORIGINAL-URL:https://hrbwa.com
X-WR-CALDESC:Events for HRBWA
REFRESH-INTERVAL;VALUE=DURATION:PT1H
X-Robots-Tag:noindex
X-PUBLISHED-TTL:PT1H
BEGIN:VTIMEZONE
TZID:America/Los_Angeles
BEGIN:DAYLIGHT
TZOFFSETFROM:-0800
TZOFFSETTO:-0700
TZNAME:PDT
DTSTART:20200308T100000
END:DAYLIGHT
BEGIN:STANDARD
TZOFFSETFROM:-0700
TZOFFSETTO:-0800
TZNAME:PST
DTSTART:20201101T090000
END:STANDARD
END:VTIMEZONE
BEGIN:VEVENT
DTSTART;TZID=America/Los_Angeles:20201217T070000
DTEND;TZID=America/Los_Angeles:20201217T123000
DTSTAMP:20260425T042921
CREATED:20201203T195015Z
LAST-MODIFIED:20201203T195015Z
UID:824-1608188400-1608208200@hrbwa.com
SUMMARY:Virtual Public Listening Session; Natural Resources Conservation Service Programs and Western Water Quantity
DESCRIPTION:The Natural Resources Conservation Service (NRCS) will host a virtual\, open\, public listening session with remote participation only\, for public input about water quantity in the west as it relates to existing NRCS programs. There will not be any in-person gathering for this listening session. The virtual public listening session will be held on Thursday\, December 17\, 2020.  There is no registration fee for the public listening session\, but pre-registration is mandatory for anyone who wishes to attend. \nRegistration to comment date: To provide oral comments during the virtual listening session\, you must register by 12:00 p.m. (noon) on Tuesday\, December 18\, 2020. \nRegistration to view date: You may register to view the listening session (but not provide oral comments)\, by 12:00 p.m. (noon) on Tuesday\, December 15\, 2020. \nWritten comment date: You may submit written comments by January 19\, 2021. \nClick here for more information and to register.
URL:https://hrbwa.com/event/virtual-public-listening-session-natural-resources-conservation-service-programs-and-western-water-quantity/
LOCATION:Virtual
END:VEVENT
BEGIN:VEVENT
DTSTART;TZID=America/Los_Angeles:20201211T100000
DTEND;TZID=America/Los_Angeles:20201211T130000
DTSTAMP:20260425T042921
CREATED:20201031T163342Z
LAST-MODIFIED:20201203T195049Z
UID:780-1607680800-1607691600@hrbwa.com
SUMMARY:Central Nevada Regional Water Authority Board of Directors
DESCRIPTION:
URL:https://hrbwa.com/event/central-nevada-regional-water-authority-board-of-directors/
LOCATION:Virtual
END:VEVENT
BEGIN:VEVENT
DTSTART;TZID=America/Los_Angeles:20201113T100000
DTEND;TZID=America/Los_Angeles:20201113T100000
DTSTAMP:20260425T042921
CREATED:20200814T221655Z
LAST-MODIFIED:20200903T204021Z
UID:719-1605261600-1605261600@hrbwa.com
SUMMARY:HRBWA Board of Directors
DESCRIPTION:
URL:https://hrbwa.com/event/hrbwa-board-of-directors/
LOCATION:Winnemucca Convention Center
END:VEVENT
BEGIN:VEVENT
DTSTART;TZID=America/Los_Angeles:20201026T130000
DTEND;TZID=America/Los_Angeles:20201026T150000
DTSTAMP:20260425T042921
CREATED:20201022T042202Z
LAST-MODIFIED:20201022T042920Z
UID:761-1603717200-1603724400@hrbwa.com
SUMMARY:NDWR Fall Look Back Meeting 2020 Northern Nevada Streamflow\, Reservoir\, and Weather Forecasts to see how the year went.
DESCRIPTION:The Nevada Division of Water Resources is organizing a retrospective Fall Look Back Meeting this coming Monday\, October 26th at 1pm. Presenters include USGS\, NRCS\, National Weather Service and the Bureau of Reclamation. This is an opportunity to review last year’s data and forecasts\, highlight new developments and to hear your insights. \nThe meeting is an extension of the winter water supply meetings that have been held the past few years. The focus is primarily on the Tahoe\, Truckee\, Carson\, Walker and Humboldt basins.  Format  is virtual and links are below. Click here for the agenda and instructions to join the meeting.
URL:https://hrbwa.com/event/ndwr-fall-look-back-meeting-2020-northern-nevada-streamflow-reservoir-and-weather-forecasts-to-see-how-the-year-went/
LOCATION:Virtual
END:VEVENT
BEGIN:VEVENT
DTSTART;TZID=America/Los_Angeles:20200924T171500
DTEND;TZID=America/Los_Angeles:20200924T211500
DTSTAMP:20260425T042922
CREATED:20200831T201309Z
LAST-MODIFIED:20200831T201309Z
UID:737-1600967700-1600982100@hrbwa.com
SUMMARY:UNR-NWRA Dinner Forum
DESCRIPTION:
URL:https://hrbwa.com/event/unr-nwra-dinner-forum/
LOCATION:Sparks Nugget Casino Resort
ORGANIZER;CN="Nevada Water Resources Association":MAILTO:nevadawaterresources@gmail.com
END:VEVENT
BEGIN:VEVENT
DTSTART;TZID=America/Los_Angeles:20200916T080000
DTEND;TZID=America/Los_Angeles:20200916T153000
DTSTAMP:20260425T042922
CREATED:20200831T201736Z
LAST-MODIFIED:20200831T201736Z
UID:739-1600243200-1600270200@hrbwa.com
SUMMARY:Advanced Water Rights in Nevada Class
DESCRIPTION:
URL:https://hrbwa.com/event/advanced-water-rights-in-nevada-class/
LOCATION:Webinar or In-Person in Reno
ORGANIZER;CN="Nevada Water Resources Association":MAILTO:nevadawaterresources@gmail.com
END:VEVENT
BEGIN:VEVENT
DTSTART;TZID=America/Los_Angeles:20200915T080000
DTEND;TZID=America/Los_Angeles:20200915T160000
DTSTAMP:20260425T042922
CREATED:20200831T201903Z
LAST-MODIFIED:20200831T201903Z
UID:742-1600156800-1600185600@hrbwa.com
SUMMARY:Water Rights in Nevada
DESCRIPTION:
URL:https://hrbwa.com/event/water-rights-in-nevada/
LOCATION:Webinar or In-Person in Reno
ORGANIZER;CN="Nevada Water Resources Association":MAILTO:nevadawaterresources@gmail.com
END:VEVENT
END:VCALENDAR