BEGIN:VCALENDAR
VERSION:2.0
PRODID:-//HRBWA - ECPv6.10.3//NONSGML v1.0//EN
CALSCALE:GREGORIAN
METHOD:PUBLISH
X-ORIGINAL-URL:https://hrbwa.com
X-WR-CALDESC:Events for HRBWA
REFRESH-INTERVAL;VALUE=DURATION:PT1H
X-Robots-Tag:noindex
X-PUBLISHED-TTL:PT1H
BEGIN:VTIMEZONE
TZID:America/Los_Angeles
BEGIN:DAYLIGHT
TZOFFSETFROM:-0800
TZOFFSETTO:-0700
TZNAME:PDT
DTSTART:20250309T100000
END:DAYLIGHT
BEGIN:STANDARD
TZOFFSETFROM:-0700
TZOFFSETTO:-0800
TZNAME:PST
DTSTART:20251102T090000
END:STANDARD
END:VTIMEZONE
BEGIN:VEVENT
DTSTART;TZID=America/Los_Angeles:20250221T100000
DTEND;TZID=America/Los_Angeles:20250221T130000
DTSTAMP:20260425T053849
CREATED:20250212T021755Z
LAST-MODIFIED:20250212T021755Z
UID:1735-1740132000-1740142800@hrbwa.com
SUMMARY:HRBWA Board of Directors meeting
DESCRIPTION:
URL:https://hrbwa.com/event/hrbwa-board-of-directors-meeting-2/
LOCATION:Humboldt County Courthouse Meeting Room 201\, 50 West Fifth Street\, Winnemucca\, Nevada\, United States
END:VEVENT
END:VCALENDAR